BEGIN:VCALENDAR
VERSION:2.0
PRODID:-//Ashby Canal Association - ECPv6.15.20//NONSGML v1.0//EN
CALSCALE:GREGORIAN
METHOD:PUBLISH
X-WR-CALNAME:Ashby Canal Association
X-ORIGINAL-URL:https://ashbycanal.com
X-WR-CALDESC:Events for Ashby Canal Association
REFRESH-INTERVAL;VALUE=DURATION:PT1H
X-Robots-Tag:noindex
X-PUBLISHED-TTL:PT1H
BEGIN:VTIMEZONE
TZID:Europe/London
BEGIN:DAYLIGHT
TZOFFSETFROM:+0000
TZOFFSETTO:+0100
TZNAME:BST
DTSTART:20210328T010000
END:DAYLIGHT
BEGIN:STANDARD
TZOFFSETFROM:+0100
TZOFFSETTO:+0000
TZNAME:GMT
DTSTART:20211031T010000
END:STANDARD
BEGIN:DAYLIGHT
TZOFFSETFROM:+0000
TZOFFSETTO:+0100
TZNAME:BST
DTSTART:20220327T010000
END:DAYLIGHT
BEGIN:STANDARD
TZOFFSETFROM:+0100
TZOFFSETTO:+0000
TZNAME:GMT
DTSTART:20221030T010000
END:STANDARD
BEGIN:DAYLIGHT
TZOFFSETFROM:+0000
TZOFFSETTO:+0100
TZNAME:BST
DTSTART:20230326T010000
END:DAYLIGHT
BEGIN:STANDARD
TZOFFSETFROM:+0100
TZOFFSETTO:+0000
TZNAME:GMT
DTSTART:20231029T010000
END:STANDARD
BEGIN:DAYLIGHT
TZOFFSETFROM:+0000
TZOFFSETTO:+0100
TZNAME:BST
DTSTART:20240331T010000
END:DAYLIGHT
BEGIN:STANDARD
TZOFFSETFROM:+0100
TZOFFSETTO:+0000
TZNAME:GMT
DTSTART:20241027T010000
END:STANDARD
BEGIN:DAYLIGHT
TZOFFSETFROM:+0000
TZOFFSETTO:+0100
TZNAME:BST
DTSTART:20250330T010000
END:DAYLIGHT
BEGIN:STANDARD
TZOFFSETFROM:+0100
TZOFFSETTO:+0000
TZNAME:GMT
DTSTART:20251026T010000
END:STANDARD
END:VTIMEZONE
BEGIN:VEVENT
DTSTART;TZID=Europe/London:20240222T193000
DTEND;TZID=Europe/London:20240222T213000
DTSTAMP:20260423T192745
CREATED:20240111T101204Z
LAST-MODIFIED:20240111T101332Z
UID:2802-1708630200-1708637400@ashbycanal.com
SUMMARY:ACA Social Evening – ‘Ashby Canal Restoration’
DESCRIPTION:A presentation by the ACA on the past\, present and future of the restoration.Free admission\, licenced bar with hot drinks also available and ample free parking.
URL:https://ashbycanal.com/event/aca-social-evening-ashby-canal-restoration/
LOCATION:Measham Leisure Centre\, 22 High Street\, Measham\, DE12 7HR
END:VEVENT
BEGIN:VEVENT
DTSTART;TZID=Europe/London:20240125T193000
DTEND;TZID=Europe/London:20240125T213000
DTSTAMP:20260423T192745
CREATED:20240111T101004Z
LAST-MODIFIED:20240111T101251Z
UID:2799-1706211000-1706218200@ashbycanal.com
SUMMARY:ACA Social Evening – ‘Origins of Place Names’
DESCRIPTION:A presentation by Anthony Poulton-Smith covering the interesting origins of place names.Free admission\, licenced bar with hot drinks also available and ample free parking.
URL:https://ashbycanal.com/event/aca-social-evening-origins-of-place-names/
LOCATION:Measham Leisure Centre\, 22 High Street\, Measham\, DE12 7HR
END:VEVENT
BEGIN:VEVENT
DTSTART;TZID=Europe/London:20231212T193000
DTEND;TZID=Europe/London:20231212T213000
DTSTAMP:20260423T192745
CREATED:20231001T150355Z
LAST-MODIFIED:20231005T131019Z
UID:2723-1702409400-1702416600@ashbycanal.com
SUMMARY:ACA Social Evening - 'Games Night'
DESCRIPTION:A light hearted festive gathering of fun and entertainment – no skills required. \n\n\n\n\n\n\n\n50p donation per game with prizes for the winners and best losers. \n\n\n\n\n\n\n\nWear your Christmas jumper and show your support for the restoration of the Ashby Canal. \n\n\n\n\n\n\n\nFree admission\, licenced bar (with hot drinks also available)\, ample free parking and mince pies!
URL:https://ashbycanal.com/event/aca-social-evening-games-night/
LOCATION:Measham Leisure Centre\, 22 High Street\, Measham\, DE12 7HR
END:VEVENT
BEGIN:VEVENT
DTSTART;TZID=Europe/London:20231118T190000
DTEND;TZID=Europe/London:20231118T223000
DTSTAMP:20260423T192745
CREATED:20230907T192146Z
LAST-MODIFIED:20231001T135815Z
UID:2698-1700334000-1700346600@ashbycanal.com
SUMMARY:ACA Quiz Night 2023
DESCRIPTION:Back again this year is our ever popular annual quiz night complete with raffle and a Fish & Chip supper! \n\n\n\nFull details available here
URL:https://ashbycanal.com/event/aca-quiz-night-2023/
LOCATION:Stoke Golding Club\, 42 Hinckley Rd\, Stoke Golding\, CV13 6DZ
END:VEVENT
BEGIN:VEVENT
DTSTART;TZID=Europe/London:20231026T193000
DTEND;TZID=Europe/London:20231026T213000
DTSTAMP:20260423T192745
CREATED:20231001T143421Z
LAST-MODIFIED:20231001T143423Z
UID:2713-1698348600-1698355800@ashbycanal.com
SUMMARY:ACA Social Evening - 'Curious Cuts'
DESCRIPTION:An illustrated presentation by Phil Clayton covering oddities of the waterways. \n\n\n\n\n\n\n\nLicenced bar with hot drinks also available and ample free parking. \n\n\n\n\n\n\n\n7:15pm for a 7:30pm start
URL:https://ashbycanal.com/event/aca-social-evening-curious-cuts/
LOCATION:Measham Leisure Centre\, 22 High Street\, Measham\, DE12 7HR
END:VEVENT
BEGIN:VEVENT
DTSTART;TZID=Europe/London:20230422T110000
DTEND;TZID=Europe/London:20230422T114000
DTSTAMP:20260423T192745
CREATED:20230412T092930Z
LAST-MODIFIED:20230422T070312Z
UID:2567-1682161200-1682163600@ashbycanal.com
SUMMARY:ACA 2023 AGM
DESCRIPTION:The 2023 Annual General Meeting of the Ashby Canal Association will be held at Snarestone Wharf\, Quarry Lane\, Snarestone on 22nd April 2023 at 11am.Members wishing to participate can do so via Zoom online from the comfort of your home.To join simply click the link below:ACA 2023 AGMMembers not attending via Zoom may appoint a proxy to vote on their behalf. A Proxy Form is available to download here. The form must then be signed and returned to the Secretary to arrive at least 48 hours before the meeting.
URL:https://ashbycanal.com/event/aca-2023-agm/
LOCATION:Zoom (Online)
END:VEVENT
BEGIN:VEVENT
DTSTART;TZID=Europe/London:20230321T193000
DTEND;TZID=Europe/London:20230321T213000
DTSTAMP:20260423T192745
CREATED:20230219T134539Z
LAST-MODIFIED:20230219T140309Z
UID:2554-1679427000-1679434200@ashbycanal.com
SUMMARY:ACA Social Evening - A Presentation on the Great Central Railway
DESCRIPTION:A presentation on the Great Central railway\, the UK’s only double track\, main line heritage railway and the only place in the world where full size steam engines can be seen passing each other. \n\n\n\n\n\n\n\nIncluding information about their exciting reunification project. \n\n\n\n\n\n\n\nLicenced bar and ample parking available. \n\n\n\n\n\n\n\n7:15pm for a 7:30pm start
URL:https://ashbycanal.com/event/aca-social-evening-a-presentation-on-the-great-central-railway/
LOCATION:Measham Leisure Centre\, 22 High Street\, Measham\, DE12 7HR
END:VEVENT
BEGIN:VEVENT
DTSTART;TZID=Europe/London:20230124T190000
DTEND;TZID=Europe/London:20230124T190000
DTSTAMP:20260423T192745
CREATED:20221120T181113Z
LAST-MODIFIED:20230219T134626Z
UID:2493-1674586800-1674586800@ashbycanal.com
SUMMARY:ACA Social Evening - A Presentation by the National Forest
DESCRIPTION:An illustrated presentation by the National Forest’s Director\, Louise Driver. \n\n\n\n\n\n\n\nThe extent of the National Forest and it’s history to date through to the present and future strategy. \n\n\n\n\n\n\n\nLicenced bar and ample parking available. \n\n\n\n\n\n\n\n7:00pm for a 7:30pm start
URL:https://ashbycanal.com/event/aca-social-evening-presentation-by-the-national-forest/
LOCATION:Measham Leisure Centre\, 22 High Street\, Measham\, DE12 7HR
END:VEVENT
BEGIN:VEVENT
DTSTART;TZID=Europe/London:20221213T190000
DTEND;TZID=Europe/London:20221213T190000
DTSTAMP:20260423T192745
CREATED:20220828T075546Z
LAST-MODIFIED:20220829T112345Z
UID:2412-1670958000-1670958000@ashbycanal.com
SUMMARY:ACA Social Evening - A Presentation on the Restoration Progress
DESCRIPTION:This will be an illustrated presentation covering all of the various restoration works that have been carried out over recent months and a report on what has been done by volunteers elsewhere on the canal. \n\n\n\nIt will include a summary of the immediate and long term restoration plans and a questions and answers session. \n\n\n\nAdmission is free and there will be refreshments and ample parking.
URL:https://ashbycanal.com/event/aca-social-evening-a-presentation-on-the-restoration-progress/
LOCATION:Measham Leisure Centre\, 22 High Street\, Measham\, DE12 7HR
END:VEVENT
BEGIN:VEVENT
DTSTART;TZID=Europe/London:20221119T190000
DTEND;TZID=Europe/London:20221119T223000
DTSTAMP:20260423T192745
CREATED:20220827T070040Z
LAST-MODIFIED:20220831T013817Z
UID:2402-1668884400-1668897000@ashbycanal.com
SUMMARY:ACA Quiz Night 2022
DESCRIPTION:Back after a few years off (thanks to COVID-19) is our ever popular annual quiz night complete with raffle and a Fish & Chip supper! \n\n\n\nFull details available here
URL:https://ashbycanal.com/event/aca-quiz-night-2022/
LOCATION:Stoke Golding Club\, 42 Hinckley Rd\, Stoke Golding\, CV13 6DZ
END:VEVENT
BEGIN:VEVENT
DTSTART;TZID=Europe/London:20221013T193000
DTEND;TZID=Europe/London:20221013T193000
DTSTAMP:20260423T192745
CREATED:20220827T010556Z
LAST-MODIFIED:20220912T104922Z
UID:2386-1665689400-1665689400@ashbycanal.com
SUMMARY:ACA Social Evening - A presentation about Joseph Wilkes
DESCRIPTION:An illustrated presentation on the life of Joseph Wilkes. \n\n\n\nNot just about his promotion of the Ashby Canal but also his business interests\, influence and input into the local area. \n\n\n\nThis will be a fascinating presentation given by June Bird who is a direct descendant of Joseph Wilkes and has extensively researched her subject in detail. \n\n\n\nAdmission is free and there will be refreshments and ample parking space.
URL:https://ashbycanal.com/event/aca-social-evening-a-presentation-about-joseph-wilkes/
LOCATION:Measham Leisure Centre\, 22 High Street\, Measham\, DE12 7HR
END:VEVENT
BEGIN:VEVENT
DTSTART;TZID=Europe/London:20220908T101500
DTEND;TZID=Europe/London:20220908T101500
DTSTAMP:20260423T192745
CREATED:20220829T111636Z
LAST-MODIFIED:20220829T112215Z
UID:2419-1662632100-1662632100@ashbycanal.com
SUMMARY:IWA Guided walk: Ashby Canal Path – Snarestone and Measham
DESCRIPTION:Join the IWA Lichfield Branch for an easy 5½ mile walk with 3 stiles along footpaths\, some rough ground\, and on a pavement. The Canal Path is signposted throughout with a series of black and white signposts\, which indicate the route of the canal restoration. \n\n\n\n\n\n\n\nWe leave the car park by a sports field and pick up the towpath of the Ashby Canal at the northern portal of Snarestone tunnel. We follow the towpath to its terminus by bridge 62\, from where we walk over rough ground towards Ilott Wharf. Here we cross a series of fields before entering the outskirts of Measham. On reaching the High Street we turn left to arrive at Measham Museum\, formerly a train station on the Ashby & Nuneaton Joint Railway. Here we follow the line of the former railway for a while. At Measham Lodge we cross the road and follow the infilled line of the canal to Ilott Wharf\, and from there back along the towpath to our starting point.
URL:https://ashbycanal.com/event/iwa-guided-walk-ashby-canal-path-snarestone-and-measham/
LOCATION:The Globe Inn\, 4 Main St\, Snarestone\, DE12 7DB
END:VEVENT
BEGIN:VEVENT
DTSTART;TZID=Europe/London:20220829T100000
DTEND;TZID=Europe/London:20220829T170000
DTSTAMP:20260423T192745
CREATED:20220827T033435Z
LAST-MODIFIED:20220828T081716Z
UID:2398-1661767200-1661792400@ashbycanal.com
SUMMARY:IWA Festival of Water 2022 – Day 3/3
DESCRIPTION:Join us at IWA Festival of Water on the Trent & Mersey Canal in Burton Upon Trent for a bank holiday weekend of fun for all who love spending time by the water.
URL:https://ashbycanal.com/event/iwa-festival-of-water-2022-day-3-3/
LOCATION:Shobnall Fields\, Shobnall Road\, Burton-upon-Trent\, DE14 2BB
END:VEVENT
BEGIN:VEVENT
DTSTART;TZID=Europe/London:20220828T100000
DTEND;TZID=Europe/London:20220828T180000
DTSTAMP:20260423T192745
CREATED:20220827T033222Z
LAST-MODIFIED:20220828T081651Z
UID:2396-1661680800-1661709600@ashbycanal.com
SUMMARY:IWA Festival of Water 2022 – Day 2/3
DESCRIPTION:Join us at IWA Festival of Water on the Trent & Mersey Canal in Burton Upon Trent for a bank holiday weekend of fun for all who love spending time by the water.
URL:https://ashbycanal.com/event/iwa-festival-of-water-2022-day-2-3/
LOCATION:Shobnall Fields\, Shobnall Road\, Burton-upon-Trent\, DE14 2BB
END:VEVENT
BEGIN:VEVENT
DTSTART;TZID=Europe/London:20220827T100000
DTEND;TZID=Europe/London:20220827T180000
DTSTAMP:20260423T192745
CREATED:20220827T003921Z
LAST-MODIFIED:20220828T034632Z
UID:2375-1661594400-1661623200@ashbycanal.com
SUMMARY:IWA Festival of Water 2022 - Day 1/3
DESCRIPTION:Join us at IWA Festival of Water on the Trent & Mersey Canal in Burton Upon Trent for a bank holiday weekend of fun for all who love spending time by the water.
URL:https://ashbycanal.com/event/iwa-festival-of-water-2022/
LOCATION:Shobnall Fields\, Shobnall Road\, Burton-upon-Trent\, DE14 2BB
END:VEVENT
END:VCALENDAR