BEGIN:VCALENDAR
VERSION:2.0
PRODID:-//Ashby Canal Association - ECPv6.15.20//NONSGML v1.0//EN
CALSCALE:GREGORIAN
METHOD:PUBLISH
X-ORIGINAL-URL:https://ashbycanal.com
X-WR-CALDESC:Events for Ashby Canal Association
REFRESH-INTERVAL;VALUE=DURATION:PT1H
X-Robots-Tag:noindex
X-PUBLISHED-TTL:PT1H
BEGIN:VTIMEZONE
TZID:Europe/London
BEGIN:DAYLIGHT
TZOFFSETFROM:+0000
TZOFFSETTO:+0100
TZNAME:BST
DTSTART:20230326T010000
END:DAYLIGHT
BEGIN:STANDARD
TZOFFSETFROM:+0100
TZOFFSETTO:+0000
TZNAME:GMT
DTSTART:20231029T010000
END:STANDARD
BEGIN:DAYLIGHT
TZOFFSETFROM:+0000
TZOFFSETTO:+0100
TZNAME:BST
DTSTART:20240331T010000
END:DAYLIGHT
BEGIN:STANDARD
TZOFFSETFROM:+0100
TZOFFSETTO:+0000
TZNAME:GMT
DTSTART:20241027T010000
END:STANDARD
BEGIN:DAYLIGHT
TZOFFSETFROM:+0000
TZOFFSETTO:+0100
TZNAME:BST
DTSTART:20250330T010000
END:DAYLIGHT
BEGIN:STANDARD
TZOFFSETFROM:+0100
TZOFFSETTO:+0000
TZNAME:GMT
DTSTART:20251026T010000
END:STANDARD
END:VTIMEZONE
BEGIN:VEVENT
DTSTART;TZID=Europe/London:20241210T193000
DTEND;TZID=Europe/London:20241210T213000
DTSTAMP:20260424T130805
CREATED:20241214T135923Z
LAST-MODIFIED:20241214T153613Z
UID:3004-1733859000-1733866200@ashbycanal.com
SUMMARY:ACA Social Evening - 'Crossing Places 2'
DESCRIPTION:A presentation by Shirley Eaton from ‘The Magic Attic‘ in Swadlincote titled ‘Crossing Places 2’\, which will cover the development of travel from the start of the Industrial Revolution up to the Canal Age.PLEASE NOTE: This talk replaces the listing advertised in previous copies of SPOUT.. \n\n\n\nFree admission\, ample free parking and a licenced bar with hot drinks also available.
URL:https://ashbycanal.com/event/aca-social-evening-a-presentation-on-the-history-of-travel-from-stagecoaches-to-canals/
LOCATION:Measham Leisure Centre\, 22 High Street\, Measham\, DE12 7HR
END:VEVENT
END:VCALENDAR