BEGIN:VCALENDAR
VERSION:2.0
PRODID:-//Ashby Canal Association - ECPv6.15.20//NONSGML v1.0//EN
CALSCALE:GREGORIAN
METHOD:PUBLISH
X-WR-CALNAME:Ashby Canal Association
X-ORIGINAL-URL:https://ashbycanal.com
X-WR-CALDESC:Events for Ashby Canal Association
REFRESH-INTERVAL;VALUE=DURATION:PT1H
X-Robots-Tag:noindex
X-PUBLISHED-TTL:PT1H
BEGIN:VTIMEZONE
TZID:Europe/London
BEGIN:DAYLIGHT
TZOFFSETFROM:+0000
TZOFFSETTO:+0100
TZNAME:BST
DTSTART:20240331T010000
END:DAYLIGHT
BEGIN:STANDARD
TZOFFSETFROM:+0100
TZOFFSETTO:+0000
TZNAME:GMT
DTSTART:20241027T010000
END:STANDARD
BEGIN:DAYLIGHT
TZOFFSETFROM:+0000
TZOFFSETTO:+0100
TZNAME:BST
DTSTART:20250330T010000
END:DAYLIGHT
BEGIN:STANDARD
TZOFFSETFROM:+0100
TZOFFSETTO:+0000
TZNAME:GMT
DTSTART:20251026T010000
END:STANDARD
BEGIN:DAYLIGHT
TZOFFSETFROM:+0000
TZOFFSETTO:+0100
TZNAME:BST
DTSTART:20260329T010000
END:DAYLIGHT
BEGIN:STANDARD
TZOFFSETFROM:+0100
TZOFFSETTO:+0000
TZNAME:GMT
DTSTART:20261025T010000
END:STANDARD
END:VTIMEZONE
BEGIN:VEVENT
DTSTART;TZID=Europe/London:20250415T190000
DTEND;TZID=Europe/London:20250415T213000
DTSTAMP:20260424T065659
CREATED:20241214T155442Z
LAST-MODIFIED:20241214T155444Z
UID:3031-1744743600-1744752600@ashbycanal.com
SUMMARY:ACA AGM & Social Evening - AGM\, followed by a guest speaker
DESCRIPTION:The ACA Annual General Meeting\, followed by a presentation from a guest speaker on a yet to be determined subject. \n\n\n\n. \n\n\n\nFree admission\, ample free parking and a licenced bar with hot drinks also available.
URL:https://ashbycanal.com/event/aca-agm-social-evening-agm-followed-by-a-guest-speaker/
LOCATION:Measham Leisure Centre\, 22 High Street\, Measham\, DE12 7HR
END:VEVENT
END:VCALENDAR